BEGIN:VCALENDAR
VERSION:2.0
PRODID:-//Oakdale Family Church - ECPv6.15.20//NONSGML v1.0//EN
CALSCALE:GREGORIAN
METHOD:PUBLISH
X-WR-CALNAME:Oakdale Family Church
X-ORIGINAL-URL:https://www.ofcnaz.com
X-WR-CALDESC:Events for Oakdale Family Church
REFRESH-INTERVAL;VALUE=DURATION:PT1H
X-Robots-Tag:noindex
X-PUBLISHED-TTL:PT1H
BEGIN:VTIMEZONE
TZID:America/Los_Angeles
BEGIN:DAYLIGHT
TZOFFSETFROM:-0800
TZOFFSETTO:-0700
TZNAME:PDT
DTSTART:20240310T100000
END:DAYLIGHT
BEGIN:STANDARD
TZOFFSETFROM:-0700
TZOFFSETTO:-0800
TZNAME:PST
DTSTART:20241103T090000
END:STANDARD
BEGIN:DAYLIGHT
TZOFFSETFROM:-0800
TZOFFSETTO:-0700
TZNAME:PDT
DTSTART:20250309T100000
END:DAYLIGHT
BEGIN:STANDARD
TZOFFSETFROM:-0700
TZOFFSETTO:-0800
TZNAME:PST
DTSTART:20251102T090000
END:STANDARD
BEGIN:DAYLIGHT
TZOFFSETFROM:-0800
TZOFFSETTO:-0700
TZNAME:PDT
DTSTART:20260308T100000
END:DAYLIGHT
BEGIN:STANDARD
TZOFFSETFROM:-0700
TZOFFSETTO:-0800
TZNAME:PST
DTSTART:20261101T090000
END:STANDARD
END:VTIMEZONE
BEGIN:VEVENT
DTSTART;TZID=America/Los_Angeles:20251025T160000
DTEND;TZID=America/Los_Angeles:20251025T180000
DTSTAMP:20260421T155403
CREATED:20251006T191837Z
LAST-MODIFIED:20251007T150954Z
UID:1648-1761408000-1761415200@www.ofcnaz.com
SUMMARY:Fall Fest
DESCRIPTION:Fall Fest A Night of Family Fun\, Games\, and Community Connection! \nGet ready for one of the best nights of the season—Fall Fest! Bring your family\, friends\, and neighbors for an evening packed with fun\, laughter\, and all things fall. This is your chance to make memories\, meet new people\, and celebrate the beauty of the season together. \n✨ Here’s what you can look forward to: \n\n\n🎯 Pop-Up Games: Enjoy a variety of quick\, fun games for kids and adults alike! \n\n\n🍰 Dessert Walk: Take your best shot at winning a delicious homemade treat. \n\n\n👻 Costume Contest: Dress to impress! Whether spooky\, silly\, or creative—there’s a prize waiting for the best costumes. \n\n\n🎈 Bounce House: Let the kids jump\, play\, and burn off energy in a safe\, exciting space. \n\n\n🍬 Goodies for Everyone: From sweet treats to fun toys\, there’s something for everyone. \n\n\n🎃 Free Pumpkins: The first 100 guests will get to pick a free pumpkin to take home! \n\n\nThis is more than just an event—it’s a celebration of community\, joy\, and togetherness. Whether you’ve been part of our church family for years or are visiting for the first time\, you’re welcome here. \n🙌 Want to get involved?We’re looking for friendly\, energetic volunteers to help make the night amazing. From running games to serving snacks\, every helping hand makes a difference. \n📞 For more information or to volunteer\, contact:Camille Santos \nMark your calendar\, invite a friend\, and come celebrate the season with us at Fall Fest! You won’t want to miss this unforgettable evening of fun and fellowship.
URL:https://www.ofcnaz.com/event/fall-fest/
LOCATION:OFC Naz\, 1700 West F Street\, Oakdale\, 95361\, United States
ATTACH;FMTTYPE=image/jpeg:https://www.ofcnaz.com/wp-content/uploads/2025/10/Fall-Fest-Event.jpg
ORGANIZER;CN="Camille Santos":MAILTO:camille@ofcnaz.com
END:VEVENT
END:VCALENDAR