BEGIN:VCALENDAR
VERSION:2.0
PRODID:-//Oakdale Family Church - ECPv6.15.20//NONSGML v1.0//EN
CALSCALE:GREGORIAN
METHOD:PUBLISH
X-WR-CALNAME:Oakdale Family Church
X-ORIGINAL-URL:https://www.ofcnaz.com
X-WR-CALDESC:Events for Oakdale Family Church
REFRESH-INTERVAL;VALUE=DURATION:PT1H
X-Robots-Tag:noindex
X-PUBLISHED-TTL:PT1H
BEGIN:VTIMEZONE
TZID:America/Los_Angeles
BEGIN:DAYLIGHT
TZOFFSETFROM:-0800
TZOFFSETTO:-0700
TZNAME:PDT
DTSTART:20240310T100000
END:DAYLIGHT
BEGIN:STANDARD
TZOFFSETFROM:-0700
TZOFFSETTO:-0800
TZNAME:PST
DTSTART:20241103T090000
END:STANDARD
BEGIN:DAYLIGHT
TZOFFSETFROM:-0800
TZOFFSETTO:-0700
TZNAME:PDT
DTSTART:20250309T100000
END:DAYLIGHT
BEGIN:STANDARD
TZOFFSETFROM:-0700
TZOFFSETTO:-0800
TZNAME:PST
DTSTART:20251102T090000
END:STANDARD
BEGIN:DAYLIGHT
TZOFFSETFROM:-0800
TZOFFSETTO:-0700
TZNAME:PDT
DTSTART:20260308T100000
END:DAYLIGHT
BEGIN:STANDARD
TZOFFSETFROM:-0700
TZOFFSETTO:-0800
TZNAME:PST
DTSTART:20261101T090000
END:STANDARD
END:VTIMEZONE
BEGIN:VEVENT
DTSTART;TZID=America/Los_Angeles:20251212T180000
DTEND;TZID=America/Los_Angeles:20251214T200000
DTSTAMP:20260421T121833
CREATED:20251118T193431Z
LAST-MODIFIED:20251118T194443Z
UID:1670-1765562400-1765742400@www.ofcnaz.com
SUMMARY:Live Drive-Thru Nativity 
DESCRIPTION:Experience the entire biblical narrative from Creation to Resurrection in this unique\, FREE\, live-action event! \nJoin us for our Live Drive-Thru Nativity—a spectacular journey where the story of the Bible comes to life right outside your car window. This is more than just a Christmas stable; it’s an immersive\, moving presentation covering key scenes from Creation and the Garden of Eden\, through the prophecies\, culminating in the central\, heartwarming event of Jesus’ miraculous birth\, and continuing all the way to the Resurrection. \nEvent Details\n\n\nDates: December 12th\, 13th\, & 14th \n\n\nTime: 6:00 PM – 8:00 PM nightly \n\n\nCost: Absolutely FREE for everyone! \n\n\nA Night of Wonder & Warmth\n\n\nLive Scenes: Watch costumed actors\, live animals\, and stunning sets bring the Bible to life\, with the true story of Christmas at the heart of the journey. \n\n\nTreats: Warm up your evening with complimentary hot chocolate available for all guests. \n\n\nExtra Fun: Don’t miss our special wagon ride\, pulled by an old-timey tractor\, offering a cozy and memorable way to experience a portion of the journey. \n\n\nGather your family and friends for an unforgettable\, meaningful start to your Christmas season. We can’t wait to share this powerful story with you!
URL:https://www.ofcnaz.com/event/live-drive-thru-nativity/
LOCATION:OFC Naz\, 1700 West F Street\, Oakdale\, 95361\, United States
ATTACH;FMTTYPE=image/jpeg:https://www.ofcnaz.com/wp-content/uploads/2025/11/Nativity-Flyer-.jpg
END:VEVENT
END:VCALENDAR